BEGIN:VCALENDAR
VERSION:2.0
PRODID:-//Tukios.com/
BEGIN:VEVENT
UID:359c5d48-d38f-4b3e-842f-35e9d798f6fa@www.lombardfuneralhome.com
DTSTAMP:20260421T180447Z
DTSTART:20260427T200000Z
DTEND:20260427T220000Z
SUMMARY:Visitation
DESCRIPTION:
URL:https://www.lombardfuneralhome.com/obituaries/paul-sullivan
LOCATION:Lombard Funeral Home 3 Bridge Street  Monson MA 01057
GEO:42.0941072;-72.3139445
END:VEVENT
END:VCALENDAR