BEGIN:VCALENDAR
VERSION:2.0
PRODID:-//Tukios.com/
BEGIN:VEVENT
UID:b545512b-19b4-4dc6-8d8d-8adf6c52f5a9@www.lombardfuneralhome.com
DTSTAMP:20260421T181218Z
DTSTART:20260428T143000Z
DTEND:20260428T153000Z
SUMMARY:Funeral Service
DESCRIPTION:
URL:https://www.lombardfuneralhome.com/obituaries/paul-sullivan
LOCATION:Lombard Funeral Home 3 Bridge Street  Monson MA 01057
GEO:42.0941072;-72.3139445
END:VEVENT
END:VCALENDAR